{"text_format":"3","workbook":"xlsx","n_sheets":3,"sheets":["Feuil1","Semaine_1","Semaine_2"],"not_rendered":{"defined_names":2},"read":"whole","date_system":"1904"}

{"sheet":"Feuil1","index":0,"n_rows":384,"n_cols":7,"rows_kept":384,"merged":[[7,1,7,6]]}
["Année :","2012-01-01"]
[]
[]
[]
[]
[]
[]
[null,"Total journalier"]
["Dates","No1","No2","No3","No4","No5","No6"]
[{"$f":"$B$1","v":"2012-01-01"},{"$f":"INDEX(INDIRECT(\"Semaine_\"&MATCH(TRUE,(COUNTIF(INDIRECT(\"Semaine_\"&ROW($1:$2)&\"!A1:IV1\"),$A10)>0),0)&\"!A23:IV23\"),MATCH($A10, INDIRECT(\"Semaine_\"&MATCH(TRUE,(COUNTIF(INDIRECT(\"Semaine_\"&ROW($1:$2)&\"!A1:iv1\"),$A10)>0),0)&\"!a1:iv1\"),0)-4+COLUMN())","v":1},{"$f":"INDEX(INDIRECT(\"Semaine_\"&MATCH(TRUE,(COUNTIF(INDIRECT(\"Semaine_\"&ROW($1:$2)&\"!A1:IV1\"),$A10)>0),0)&\"!A23:IV23\"),MATCH($A10, INDIRECT(\"Semaine_\"&MATCH(TRUE,(COUNTIF(INDIRECT(\"Semaine_\"&ROW($1:$2)&\"!A1:iv1\"),$A10)>0),0)&\"!a1:iv1\"),0)-4+COLUMN())","v":2},{"$f":"INDEX(INDIRECT(\"Semaine_\"&MATCH(TRUE,(COUNTIF(INDIRECT(\"Semaine_\"&ROW($1:$2)&\"!A1:IV1\"),$A10)>0),0)&\"!A23:IV23\"),MATCH($A10, INDIRECT(\"Semaine_\"&MATCH(TRUE,(COUNTIF(INDIRECT(\"Semaine_\"&ROW($1:$2)&\"!A1:iv1\"),$A10)>0),0)&\"!a1:iv1\"),0)-4+COLUMN())","v":3},{"$f":"INDEX(INDIRECT(\"Semaine_\"&MATCH(TRUE,(COUNTIF(INDIRECT(\"Semaine_\"&ROW($1:$2)&\"!A1:IV1\"),$A10)>0),0)&\"!A23:IV23\"),MATCH($A10, INDIRECT(\"Semaine_\"&MATCH(TRUE,(COUNTIF(INDIRECT(\"Semaine_\"&ROW($1:$2)&\"!A1:iv1\"),$A10)>0),0)&\"!a1:iv1\"),0)-4+COLUMN())","v":0},{"$f":"INDEX(INDIRECT(\"Semaine_\"&MATCH(TRUE,(COUNTIF(INDIRECT(\"Semaine_\"&ROW($1:$2)&\"!A1:IV1\"),$A10)>0),0)&\"!A23:IV23\"),MATCH($A10, INDIRECT(\"Semaine_\"&MATCH(TRUE,(COUNTIF(INDIRECT(\"Semaine_\"&ROW($1:$2)&\"!A1:iv1\"),$A10)>0),0)&\"!a1:iv1\"),0)-4+COLUMN())","v":0},{"$f":"INDEX(INDIRECT(\"Semaine_\"&MATCH(TRUE,(COUNTIF(INDIRECT(\"Semaine_\"&ROW($1:$2)&\"!A1:IV1\"),$A10)>0),0)&\"!A23:IV23\"),MATCH($A10, INDIRECT(\"Semaine_\"&MATCH(TRUE,(COUNTIF(INDIRECT(\"Semaine_\"&ROW($1:$2)&\"!A1:iv1\"),$A10)>0),0)&\"!a1:iv1\"),0)-4+COLUMN())","v":0}]
[{"$f":"SUM(A10+1)","v":"2012-01-02"},{"$f":"INDEX(INDIRECT(\"Semaine_\"&MATCH(TRUE,(COUNTIF(INDIRECT(\"Semaine_\"&ROW($1:$2)&\"!A1:IV1\"),$A11)>0),0)&\"!A23:IV23\"),MATCH($A11, INDIRECT(\"Semaine_\"&MATCH(TRUE,(COUNTIF(INDIRECT(\"Semaine_\"&ROW($1:$2)&\"!A1:iv1\"),$A11)>0),0)&\"!a1:iv1\"),0)-4+COLUMN())","v":0.25},{"$f":"INDEX(INDIRECT(\"Semaine_\"&MATCH(TRUE,(COUNTIF(INDIRECT(\"Semaine_\"&ROW($1:$2)&\"!A1:IV1\"),$A11)>0),0)&\"!A23:IV23\"),MATCH($A11, INDIRECT(\"Semaine_\"&MATCH(TRUE,(COUNTIF(INDIRECT(\"Semaine_\"&ROW($1:$2)&\"!A1:iv1\"),$A11)>0),0)&\"!a1:iv1\"),0)-4+COLUMN())","v":0},{"$f":"INDEX(INDIRECT(\"Semaine_\"&MATCH(TRUE,(COUNTIF(INDIRECT(\"Semaine_\"&ROW($1:$2)&\"!A1:IV1\"),$A11)>0),0)&\"!A23:IV23\"),MATCH($A11, INDIRECT(\"Semaine_\"&MATCH(TRUE,(COUNTIF(INDIRECT(\"Semaine_\"&ROW($1:$2)&\"!A1:iv1\"),$A11)>0),0)&\"!a1:iv1\"),0)-4+COLUMN())","v":0},{"$f":"INDEX(INDIRECT(\"Semaine_\"&MATCH(TRUE,(COUNTIF(INDIRECT(\"Semaine_\"&ROW($1:$2)&\"!A1:IV1\"),$A11)>0),0)&\"!A23:IV23\"),MATCH($A11, INDIRECT(\"Semaine_\"&MATCH(TRUE,(COUNTIF(INDIRECT(\"Semaine_\"&ROW($1:$2)&\"!A1:iv1\"),$A11)>0),0)&\"!a1:iv1\"),0)-4+COLUMN())","v":0},{"$f":"INDEX(INDIRECT(\"Semaine_\"&MATCH(TRUE,(COUNTIF(INDIRECT(\"Semaine_\"&ROW($1:$2)&\"!A1:IV1\"),$A11)>0),0)&\"!A23:IV23\"),MATCH($A11, INDIRECT(\"Semaine_\"&MATCH(TRUE,(COUNTIF(INDIRECT(\"Semaine_\"&ROW($1:$2)&\"!A1:iv1\"),$A11)>0),0)&\"!a1:iv1\"),0)-4+COLUMN())","v":0},{"$f":"INDEX(INDIRECT(\"Semaine_\"&MATCH(TRUE,(COUNTIF(INDIRECT(\"Semaine_\"&ROW($1:$2)&\"!A1:IV1\"),$A11)>0),0)&\"!A23:IV23\"),MATCH($A11, INDIRECT(\"Semaine_\"&MATCH(TRUE,(COUNTIF(INDIRECT(\"Semaine_\"&ROW($1:$2)&\"!A1:iv1\"),$A11)>0),0)&\"!a1:iv1\"),0)-4+COLUMN())","v":0}]
[{"$f":"SUM(A11+1)","v":"2012-01-03"}]
[{"$f":"SUM(A12+1)","v":"2012-01-04"}]
[{"$f":"SUM(A13+1)","v":"2012-01-05"}]
[{"$f":"SUM(A14+1)","v":"2012-01-06"}]
[{"$f":"SUM(A15+1)","v":"2012-01-07"}]
[{"$f":"SUM(A16+1)","v":"2012-01-08"}]
[{"$f":"SUM(A17+1)","v":"2012-01-09"}]
[{"$f":"SUM(A18+1)","v":"2012-01-10"}]
[{"$f":"SUM(A19+1)","v":"2012-01-11"}]
[{"$f":"SUM(A20+1)","v":"2012-01-12"}]
[{"$f":"SUM(A21+1)","v":"2012-01-13"}]
[{"$f":"SUM(A22+1)","v":"2012-01-14"}]
[{"$f":"SUM(A23+1)","v":"2012-01-15"}]
[{"$f":"SUM(A24+1)","v":"2012-01-16"}]
[{"$f":"SUM(A25+1)","v":"2012-01-17"}]
[{"$f":"SUM(A26+1)","v":"2012-01-18"}]
[{"$f":"SUM(A27+1)","v":"2012-01-19"}]
[{"$f":"SUM(A28+1)","v":"2012-01-20"}]
[{"$f":"SUM(A29+1)","v":"2012-01-21"}]
[{"$f":"SUM(A30+1)","v":"2012-01-22"}]
[{"$f":"SUM(A31+1)","v":"2012-01-23"}]
[{"$f":"SUM(A32+1)","v":"2012-01-24"}]
[{"$f":"SUM(A33+1)","v":"2012-01-25"}]
[{"$f":"SUM(A34+1)","v":"2012-01-26"}]
[{"$f":"SUM(A35+1)","v":"2012-01-27"}]
[{"$f":"SUM(A36+1)","v":"2012-01-28"}]
[{"$f":"SUM(A37+1)","v":"2012-01-29"}]
[{"$f":"SUM(A38+1)","v":"2012-01-30"}]
[{"$f":"SUM(A39+1)","v":"2012-01-31"}]
[{"$f":"SUM(A40+1)","v":"2012-02-01"}]
[{"$f":"SUM(A41+1)","v":"2012-02-02"}]
[{"$f":"SUM(A42+1)","v":"2012-02-03"}]
[{"$f":"SUM(A43+1)","v":"2012-02-04"}]
[{"$f":"SUM(A44+1)","v":"2012-02-05"}]
[{"$f":"SUM(A45+1)","v":"2012-02-06"}]
[{"$f":"SUM(A46+1)","v":"2012-02-07"}]
[{"$f":"SUM(A47+1)","v":"2012-02-08"}]
[{"$f":"SUM(A48+1)","v":"2012-02-09"}]
[{"$f":"SUM(A49+1)","v":"2012-02-10"}]
[{"$f":"SUM(A50+1)","v":"2012-02-11"}]
[{"$f":"SUM(A51+1)","v":"2012-02-12"}]
[{"$f":"SUM(A52+1)","v":"2012-02-13"}]
[{"$f":"SUM(A53+1)","v":"2012-02-14"}]
[{"$f":"SUM(A54+1)","v":"2012-02-15"}]
[{"$f":"SUM(A55+1)","v":"2012-02-16"}]
[{"$f":"SUM(A56+1)","v":"2012-02-17"}]
[{"$f":"SUM(A57+1)","v":"2012-02-18"}]
[{"$f":"SUM(A58+1)","v":"2012-02-19"}]
[{"$f":"SUM(A59+1)","v":"2012-02-20"}]
[{"$f":"SUM(A60+1)","v":"2012-02-21"}]
[{"$f":"SUM(A61+1)","v":"2012-02-22"}]
[{"$f":"SUM(A62+1)","v":"2012-02-23"}]
[{"$f":"SUM(A63+1)","v":"2012-02-24"}]
[{"$f":"SUM(A64+1)","v":"2012-02-25"}]
[{"$f":"SUM(A65+1)","v":"2012-02-26"}]
[{"$f":"SUM(A66+1)","v":"2012-02-27"}]
[{"$f":"SUM(A67+1)","v":"2012-02-28"}]
[{"$f":"SUM(A68+1)","v":"2012-02-29"}]
[{"$f":"SUM(A69+1)","v":"2012-03-01"}]
[{"$f":"SUM(A70+1)","v":"2012-03-02"}]
[{"$f":"SUM(A71+1)","v":"2012-03-03"}]
[{"$f":"SUM(A72+1)","v":"2012-03-04"}]
[{"$f":"SUM(A73+1)","v":"2012-03-05"}]
[{"$f":"SUM(A74+1)","v":"2012-03-06"}]
[{"$f":"SUM(A75+1)","v":"2012-03-07"}]
[{"$f":"SUM(A76+1)","v":"2012-03-08"}]
[{"$f":"SUM(A77+1)","v":"2012-03-09"}]
[{"$f":"SUM(A78+1)","v":"2012-03-10"}]
[{"$f":"SUM(A79+1)","v":"2012-03-11"}]
[{"$f":"SUM(A80+1)","v":"2012-03-12"}]
[{"$f":"SUM(A81+1)","v":"2012-03-13"}]
[{"$f":"SUM(A82+1)","v":"2012-03-14"}]
[{"$f":"SUM(A83+1)","v":"2012-03-15"}]
[{"$f":"SUM(A84+1)","v":"2012-03-16"}]
[{"$f":"SUM(A85+1)","v":"2012-03-17"}]
[{"$f":"SUM(A86+1)","v":"2012-03-18"}]
[{"$f":"SUM(A87+1)","v":"2012-03-19"}]
[{"$f":"SUM(A88+1)","v":"2012-03-20"}]
[{"$f":"SUM(A89+1)","v":"2012-03-21"}]
[{"$f":"SUM(A90+1)","v":"2012-03-22"}]
[{"$f":"SUM(A91+1)","v":"2012-03-23"}]
[{"$f":"SUM(A92+1)","v":"2012-03-24"}]
[{"$f":"SUM(A93+1)","v":"2012-03-25"}]
[{"$f":"SUM(A94+1)","v":"2012-03-26"}]
[{"$f":"SUM(A95+1)","v":"2012-03-27"}]
[{"$f":"SUM(A96+1)","v":"2012-03-28"}]
[{"$f":"SUM(A97+1)","v":"2012-03-29"}]
[{"$f":"SUM(A98+1)","v":"2012-03-30"}]
[{"$f":"SUM(A99+1)","v":"2012-03-31"}]
[{"$f":"SUM(A100+1)","v":"2012-04-01"}]
[{"$f":"SUM(A101+1)","v":"2012-04-02"}]
[{"$f":"SUM(A102+1)","v":"2012-04-03"}]
[{"$f":"SUM(A103+1)","v":"2012-04-04"}]
[{"$f":"SUM(A104+1)","v":"2012-04-05"}]
[{"$f":"SUM(A105+1)","v":"2012-04-06"}]
[{"$f":"SUM(A106+1)","v":"2012-04-07"}]
[{"$f":"SUM(A107+1)","v":"2012-04-08"}]
[{"$f":"SUM(A108+1)","v":"2012-04-09"}]
[{"$f":"SUM(A109+1)","v":"2012-04-10"}]
[{"$f":"SUM(A110+1)","v":"2012-04-11"}]
[{"$f":"SUM(A111+1)","v":"2012-04-12"}]
[{"$f":"SUM(A112+1)","v":"2012-04-13"}]
[{"$f":"SUM(A113+1)","v":"2012-04-14"}]
[{"$f":"SUM(A114+1)","v":"2012-04-15"}]
[{"$f":"SUM(A115+1)","v":"2012-04-16"}]
[{"$f":"SUM(A116+1)","v":"2012-04-17"}]
[{"$f":"SUM(A117+1)","v":"2012-04-18"}]
[{"$f":"SUM(A118+1)","v":"2012-04-19"}]
[{"$f":"SUM(A119+1)","v":"2012-04-20"}]
[{"$f":"SUM(A120+1)","v":"2012-04-21"}]
[{"$f":"SUM(A121+1)","v":"2012-04-22"}]
[{"$f":"SUM(A122+1)","v":"2012-04-23"}]
[{"$f":"SUM(A123+1)","v":"2012-04-24"}]
[{"$f":"SUM(A124+1)","v":"2012-04-25"}]
[{"$f":"SUM(A125+1)","v":"2012-04-26"}]
[{"$f":"SUM(A126+1)","v":"2012-04-27"}]
[{"$f":"SUM(A127+1)","v":"2012-04-28"}]
[{"$f":"SUM(A128+1)","v":"2012-04-29"}]
[{"$f":"SUM(A129+1)","v":"2012-04-30"}]
[{"$f":"SUM(A130+1)","v":"2012-05-01"}]
[{"$f":"SUM(A131+1)","v":"2012-05-02"}]
[{"$f":"SUM(A132+1)","v":"2012-05-03"}]
[{"$f":"SUM(A133+1)","v":"2012-05-04"}]
[{"$f":"SUM(A134+1)","v":"2012-05-05"}]
[{"$f":"SUM(A135+1)","v":"2012-05-06"}]
[{"$f":"SUM(A136+1)","v":"2012-05-07"}]
[{"$f":"SUM(A137+1)","v":"2012-05-08"}]
[{"$f":"SUM(A138+1)","v":"2012-05-09"}]
[{"$f":"SUM(A139+1)","v":"2012-05-10"}]
[{"$f":"SUM(A140+1)","v":"2012-05-11"}]
[{"$f":"SUM(A141+1)","v":"2012-05-12"}]
[{"$f":"SUM(A142+1)","v":"2012-05-13"}]
[{"$f":"SUM(A143+1)","v":"2012-05-14"}]
[{"$f":"SUM(A144+1)","v":"2012-05-15"}]
[{"$f":"SUM(A145+1)","v":"2012-05-16"}]
[{"$f":"SUM(A146+1)","v":"2012-05-17"}]
[{"$f":"SUM(A147+1)","v":"2012-05-18"}]
[{"$f":"SUM(A148+1)","v":"2012-05-19"}]
[{"$f":"SUM(A149+1)","v":"2012-05-20"}]
[{"$f":"SUM(A150+1)","v":"2012-05-21"}]
[{"$f":"SUM(A151+1)","v":"2012-05-22"}]
[{"$f":"SUM(A152+1)","v":"2012-05-23"}]
[{"$f":"SUM(A153+1)","v":"2012-05-24"}]
[{"$f":"SUM(A154+1)","v":"2012-05-25"}]
[{"$f":"SUM(A155+1)","v":"2012-05-26"}]
[{"$f":"SUM(A156+1)","v":"2012-05-27"}]
[{"$f":"SUM(A157+1)","v":"2012-05-28"}]
[{"$f":"SUM(A158+1)","v":"2012-05-29"}]
[{"$f":"SUM(A159+1)","v":"2012-05-30"}]
[{"$f":"SUM(A160+1)","v":"2012-05-31"}]
[{"$f":"SUM(A161+1)","v":"2012-06-01"}]
[{"$f":"SUM(A162+1)","v":"2012-06-02"}]
[{"$f":"SUM(A163+1)","v":"2012-06-03"}]
[{"$f":"SUM(A164+1)","v":"2012-06-04"}]
[{"$f":"SUM(A165+1)","v":"2012-06-05"}]
[{"$f":"SUM(A166+1)","v":"2012-06-06"}]
[{"$f":"SUM(A167+1)","v":"2012-06-07"}]
[{"$f":"SUM(A168+1)","v":"2012-06-08"}]
[{"$f":"SUM(A169+1)","v":"2012-06-09"}]
[{"$f":"SUM(A170+1)","v":"2012-06-10"}]
[{"$f":"SUM(A171+1)","v":"2012-06-11"}]
[{"$f":"SUM(A172+1)","v":"2012-06-12"}]
[{"$f":"SUM(A173+1)","v":"2012-06-13"}]
[{"$f":"SUM(A174+1)","v":"2012-06-14"}]
[{"$f":"SUM(A175+1)","v":"2012-06-15"}]
[{"$f":"SUM(A176+1)","v":"2012-06-16"}]
[{"$f":"SUM(A177+1)","v":"2012-06-17"}]
[{"$f":"SUM(A178+1)","v":"2012-06-18"}]
[{"$f":"SUM(A179+1)","v":"2012-06-19"}]
[{"$f":"SUM(A180+1)","v":"2012-06-20"}]
[{"$f":"SUM(A181+1)","v":"2012-06-21"}]
[{"$f":"SUM(A182+1)","v":"2012-06-22"}]
[{"$f":"SUM(A183+1)","v":"2012-06-23"}]
[{"$f":"SUM(A184+1)","v":"2012-06-24"}]
[{"$f":"SUM(A185+1)","v":"2012-06-25"}]
[{"$f":"SUM(A186+1)","v":"2012-06-26"}]
[{"$f":"SUM(A187+1)","v":"2012-06-27"}]
[{"$f":"SUM(A188+1)","v":"2012-06-28"}]
[{"$f":"SUM(A189+1)","v":"2012-06-29"}]
[{"$f":"SUM(A190+1)","v":"2012-06-30"}]
[{"$f":"SUM(A191+1)","v":"2012-07-01"}]
[{"$f":"SUM(A192+1)","v":"2012-07-02"}]
[{"$f":"SUM(A193+1)","v":"2012-07-03"}]
[{"$f":"SUM(A194+1)","v":"2012-07-04"}]
[{"$f":"SUM(A195+1)","v":"2012-07-05"}]
[{"$f":"SUM(A196+1)","v":"2012-07-06"}]
[{"$f":"SUM(A197+1)","v":"2012-07-07"}]
[{"$f":"SUM(A198+1)","v":"2012-07-08"}]
[{"$f":"SUM(A199+1)","v":"2012-07-09"}]
[{"$f":"SUM(A200+1)","v":"2012-07-10"}]
[{"$f":"SUM(A201+1)","v":"2012-07-11"}]
[{"$f":"SUM(A202+1)","v":"2012-07-12"}]
[{"$f":"SUM(A203+1)","v":"2012-07-13"}]
[{"$f":"SUM(A204+1)","v":"2012-07-14"}]
[{"$f":"SUM(A205+1)","v":"2012-07-15"}]
[{"$f":"SUM(A206+1)","v":"2012-07-16"}]
[{"$f":"SUM(A207+1)","v":"2012-07-17"}]
[{"$f":"SUM(A208+1)","v":"2012-07-18"}]
[{"$f":"SUM(A209+1)","v":"2012-07-19"}]
[{"$f":"SUM(A210+1)","v":"2012-07-20"}]
[{"$f":"SUM(A211+1)","v":"2012-07-21"}]
[{"$f":"SUM(A212+1)","v":"2012-07-22"}]
[{"$f":"SUM(A213+1)","v":"2012-07-23"}]
[{"$f":"SUM(A214+1)","v":"2012-07-24"}]
[{"$f":"SUM(A215+1)","v":"2012-07-25"}]
[{"$f":"SUM(A216+1)","v":"2012-07-26"}]
[{"$f":"SUM(A217+1)","v":"2012-07-27"}]
[{"$f":"SUM(A218+1)","v":"2012-07-28"}]
[{"$f":"SUM(A219+1)","v":"2012-07-29"}]
[{"$f":"SUM(A220+1)","v":"2012-07-30"}]
[{"$f":"SUM(A221+1)","v":"2012-07-31"}]
[{"$f":"SUM(A222+1)","v":"2012-08-01"}]
[{"$f":"SUM(A223+1)","v":"2012-08-02"}]
[{"$f":"SUM(A224+1)","v":"2012-08-03"}]
[{"$f":"SUM(A225+1)","v":"2012-08-04"}]
[{"$f":"SUM(A226+1)","v":"2012-08-05"}]
[{"$f":"SUM(A227+1)","v":"2012-08-06"}]
[{"$f":"SUM(A228+1)","v":"2012-08-07"}]
[{"$f":"SUM(A229+1)","v":"2012-08-08"}]
[{"$f":"SUM(A230+1)","v":"2012-08-09"}]
[{"$f":"SUM(A231+1)","v":"2012-08-10"}]
[{"$f":"SUM(A232+1)","v":"2012-08-11"}]
[{"$f":"SUM(A233+1)","v":"2012-08-12"}]
[{"$f":"SUM(A234+1)","v":"2012-08-13"}]
[{"$f":"SUM(A235+1)","v":"2012-08-14"}]
[{"$f":"SUM(A236+1)","v":"2012-08-15"}]
[{"$f":"SUM(A237+1)","v":"2012-08-16"}]
[{"$f":"SUM(A238+1)","v":"2012-08-17"}]
[{"$f":"SUM(A239+1)","v":"2012-08-18"}]
[{"$f":"SUM(A240+1)","v":"2012-08-19"}]
[{"$f":"SUM(A241+1)","v":"2012-08-20"}]
[{"$f":"SUM(A242+1)","v":"2012-08-21"}]
[{"$f":"SUM(A243+1)","v":"2012-08-22"}]
[{"$f":"SUM(A244+1)","v":"2012-08-23"}]
[{"$f":"SUM(A245+1)","v":"2012-08-24"}]
[{"$f":"SUM(A246+1)","v":"2012-08-25"}]
[{"$f":"SUM(A247+1)","v":"2012-08-26"}]
[{"$f":"SUM(A248+1)","v":"2012-08-27"}]
[{"$f":"SUM(A249+1)","v":"2012-08-28"}]
[{"$f":"SUM(A250+1)","v":"2012-08-29"}]
[{"$f":"SUM(A251+1)","v":"2012-08-30"}]
[{"$f":"SUM(A252+1)","v":"2012-08-31"}]
[{"$f":"SUM(A253+1)","v":"2012-09-01"}]
[{"$f":"SUM(A254+1)","v":"2012-09-02"}]
[{"$f":"SUM(A255+1)","v":"2012-09-03"}]
[{"$f":"SUM(A256+1)","v":"2012-09-04"}]
[{"$f":"SUM(A257+1)","v":"2012-09-05"}]
[{"$f":"SUM(A258+1)","v":"2012-09-06"}]
[{"$f":"SUM(A259+1)","v":"2012-09-07"}]
[{"$f":"SUM(A260+1)","v":"2012-09-08"}]
[{"$f":"SUM(A261+1)","v":"2012-09-09"}]
[{"$f":"SUM(A262+1)","v":"2012-09-10"}]
[{"$f":"SUM(A263+1)","v":"2012-09-11"}]
[{"$f":"SUM(A264+1)","v":"2012-09-12"}]
[{"$f":"SUM(A265+1)","v":"2012-09-13"}]
[{"$f":"SUM(A266+1)","v":"2012-09-14"}]
[{"$f":"SUM(A267+1)","v":"2012-09-15"}]
[{"$f":"SUM(A268+1)","v":"2012-09-16"}]
[{"$f":"SUM(A269+1)","v":"2012-09-17"}]
[{"$f":"SUM(A270+1)","v":"2012-09-18"}]
[{"$f":"SUM(A271+1)","v":"2012-09-19"}]
[{"$f":"SUM(A272+1)","v":"2012-09-20"}]
[{"$f":"SUM(A273+1)","v":"2012-09-21"}]
[{"$f":"SUM(A274+1)","v":"2012-09-22"}]
[{"$f":"SUM(A275+1)","v":"2012-09-23"}]
[{"$f":"SUM(A276+1)","v":"2012-09-24"}]
[{"$f":"SUM(A277+1)","v":"2012-09-25"}]
[{"$f":"SUM(A278+1)","v":"2012-09-26"}]
[{"$f":"SUM(A279+1)","v":"2012-09-27"}]
[{"$f":"SUM(A280+1)","v":"2012-09-28"}]
[{"$f":"SUM(A281+1)","v":"2012-09-29"}]
[{"$f":"SUM(A282+1)","v":"2012-09-30"}]
[{"$f":"SUM(A283+1)","v":"2012-10-01"}]
[{"$f":"SUM(A284+1)","v":"2012-10-02"}]
[{"$f":"SUM(A285+1)","v":"2012-10-03"}]
[{"$f":"SUM(A286+1)","v":"2012-10-04"}]
[{"$f":"SUM(A287+1)","v":"2012-10-05"}]
[{"$f":"SUM(A288+1)","v":"2012-10-06"}]
[{"$f":"SUM(A289+1)","v":"2012-10-07"}]
[{"$f":"SUM(A290+1)","v":"2012-10-08"}]
[{"$f":"SUM(A291+1)","v":"2012-10-09"}]
[{"$f":"SUM(A292+1)","v":"2012-10-10"}]
[{"$f":"SUM(A293+1)","v":"2012-10-11"}]
[{"$f":"SUM(A294+1)","v":"2012-10-12"}]
[{"$f":"SUM(A295+1)","v":"2012-10-13"}]
[{"$f":"SUM(A296+1)","v":"2012-10-14"}]
[{"$f":"SUM(A297+1)","v":"2012-10-15"}]
[{"$f":"SUM(A298+1)","v":"2012-10-16"}]
[{"$f":"SUM(A299+1)","v":"2012-10-17"}]
[{"$f":"SUM(A300+1)","v":"2012-10-18"}]
[{"$f":"SUM(A301+1)","v":"2012-10-19"}]
[{"$f":"SUM(A302+1)","v":"2012-10-20"}]
[{"$f":"SUM(A303+1)","v":"2012-10-21"}]
[{"$f":"SUM(A304+1)","v":"2012-10-22"}]
[{"$f":"SUM(A305+1)","v":"2012-10-23"}]
[{"$f":"SUM(A306+1)","v":"2012-10-24"}]
[{"$f":"SUM(A307+1)","v":"2012-10-25"}]
[{"$f":"SUM(A308+1)","v":"2012-10-26"}]
[{"$f":"SUM(A309+1)","v":"2012-10-27"}]
[{"$f":"SUM(A310+1)","v":"2012-10-28"}]
[{"$f":"SUM(A311+1)","v":"2012-10-29"}]
[{"$f":"SUM(A312+1)","v":"2012-10-30"}]
[{"$f":"SUM(A313+1)","v":"2012-10-31"}]
[{"$f":"SUM(A314+1)","v":"2012-11-01"}]
[{"$f":"SUM(A315+1)","v":"2012-11-02"}]
[{"$f":"SUM(A316+1)","v":"2012-11-03"}]
[{"$f":"SUM(A317+1)","v":"2012-11-04"}]
[{"$f":"SUM(A318+1)","v":"2012-11-05"}]
[{"$f":"SUM(A319+1)","v":"2012-11-06"}]
[{"$f":"SUM(A320+1)","v":"2012-11-07"}]
[{"$f":"SUM(A321+1)","v":"2012-11-08"}]
[{"$f":"SUM(A322+1)","v":"2012-11-09"}]
[{"$f":"SUM(A323+1)","v":"2012-11-10"}]
[{"$f":"SUM(A324+1)","v":"2012-11-11"}]
[{"$f":"SUM(A325+1)","v":"2012-11-12"}]
[{"$f":"SUM(A326+1)","v":"2012-11-13"}]
[{"$f":"SUM(A327+1)","v":"2012-11-14"}]
[{"$f":"SUM(A328+1)","v":"2012-11-15"}]
[{"$f":"SUM(A329+1)","v":"2012-11-16"}]
[{"$f":"SUM(A330+1)","v":"2012-11-17"}]
[{"$f":"SUM(A331+1)","v":"2012-11-18"}]
[{"$f":"SUM(A332+1)","v":"2012-11-19"}]
[{"$f":"SUM(A333+1)","v":"2012-11-20"}]
[{"$f":"SUM(A334+1)","v":"2012-11-21"}]
[{"$f":"SUM(A335+1)","v":"2012-11-22"}]
[{"$f":"SUM(A336+1)","v":"2012-11-23"}]
[{"$f":"SUM(A337+1)","v":"2012-11-24"}]
[{"$f":"SUM(A338+1)","v":"2012-11-25"}]
[{"$f":"SUM(A339+1)","v":"2012-11-26"}]
[{"$f":"SUM(A340+1)","v":"2012-11-27"}]
[{"$f":"SUM(A341+1)","v":"2012-11-28"}]
[{"$f":"SUM(A342+1)","v":"2012-11-29"}]
[{"$f":"SUM(A343+1)","v":"2012-11-30"}]
[{"$f":"SUM(A344+1)","v":"2012-12-01"}]
[{"$f":"SUM(A345+1)","v":"2012-12-02"}]
[{"$f":"SUM(A346+1)","v":"2012-12-03"}]
[{"$f":"SUM(A347+1)","v":"2012-12-04"}]
[{"$f":"SUM(A348+1)","v":"2012-12-05"}]
[{"$f":"SUM(A349+1)","v":"2012-12-06"}]
[{"$f":"SUM(A350+1)","v":"2012-12-07"}]
[{"$f":"SUM(A351+1)","v":"2012-12-08"}]
[{"$f":"SUM(A352+1)","v":"2012-12-09"}]
[{"$f":"SUM(A353+1)","v":"2012-12-10"}]
[{"$f":"SUM(A354+1)","v":"2012-12-11"}]
[{"$f":"SUM(A355+1)","v":"2012-12-12"}]
[{"$f":"SUM(A356+1)","v":"2012-12-13"}]
[{"$f":"SUM(A357+1)","v":"2012-12-14"}]
[{"$f":"SUM(A358+1)","v":"2012-12-15"}]
[{"$f":"SUM(A359+1)","v":"2012-12-16"}]
[{"$f":"SUM(A360+1)","v":"2012-12-17"}]
[{"$f":"SUM(A361+1)","v":"2012-12-18"}]
[{"$f":"SUM(A362+1)","v":"2012-12-19"}]
[{"$f":"SUM(A363+1)","v":"2012-12-20"}]
[{"$f":"SUM(A364+1)","v":"2012-12-21"}]
[{"$f":"SUM(A365+1)","v":"2012-12-22"}]
[{"$f":"SUM(A366+1)","v":"2012-12-23"}]
[{"$f":"SUM(A367+1)","v":"2012-12-24"}]
[{"$f":"SUM(A368+1)","v":"2012-12-25"}]
[{"$f":"SUM(A369+1)","v":"2012-12-26"}]
[{"$f":"SUM(A370+1)","v":"2012-12-27"}]
[{"$f":"SUM(A371+1)","v":"2012-12-28"}]
[{"$f":"SUM(A372+1)","v":"2012-12-29"}]
[{"$f":"SUM(A373+1)","v":"2012-12-30"}]
[{"$f":"IF(DAY(A374)=30,A374+1,\"\")","v":"2012-12-31"}]
[null,{"$f":"ROUND(SUM(B10:B375)*1440,0)/1440","v":1.25},{"$f":"ROUND(SUM(C10:C375)*1440,0)/1440","v":2},{"$f":"ROUND(SUM(D10:D375)*1440,0)/1440","v":3},{"$f":"ROUND(SUM(E10:E375)*1440,0)/1440","v":0},{"$f":"ROUND(SUM(F10:F375)*1440,0)/1440","v":0},{"$f":"ROUND(SUM(G10:G375)*1440,0)/1440","v":0}]
{"$rows_empty":7}
[{"$nulls":6},"§"]

{"sheet":"Semaine_1","index":1,"n_rows":23,"n_cols":56,"rows_kept":23}
[null,"Date :",null,"2011-12-26",null,"Semaine N°",null,{"$f":"WEEKNUM(D1,1)","v":53},null,"Date :",null,{"$f":"SUM(D1+1)","v":"2011-12-27"},null,"Semaine N°",null,{"$f":"WEEKNUM(L1,1)","v":53},null,"Date :",null,{"$f":"SUM(L1+1)","v":"2011-12-28"},null,"Semaine N°",null,{"$f":"WEEKNUM(T1,1)","v":53},null,"Date :",null,{"$f":"SUM(T1+1)","v":"2011-12-29"},null,"Semaine N°",null,{"$f":"WEEKNUM(AB1,1)","v":53},null,"Date :",null,{"$f":"SUM(AB1+1)","v":"2011-12-30"},null,"Semaine N°",null,{"$f":"WEEKNUM(AJ1,1)","v":53},null,"Date :",null,{"$f":"SUM(AJ1+1)","v":"2011-12-31"},null,"Semaine N°",null,{"$f":"WEEKNUM(AR1,1)","v":53},null,"Date :",null,{"$f":"SUM(AR1+1)","v":"2012-01-01"},null,"Semaine N°",null,{"$f":"WEEKNUM(AZ1,1)","v":1}]
[null,"Jour de la semaine :",null,{"$f":"TEXT(D1,\"jjjj\")","v":"lundi"},null,"Durée d'activité :",null,{"$f":"VALUE(IF(D2=\"samedi\",\"00:00\",IF(D2=\"dimanche\",\"00:00\",IF(D2=\"vendredi\",\"07:30\",\"08:30\"))))","v":"08:30:00"},null,"Jour de la semaine :",null,{"$f":"TEXT(L1,\"jjjj\")","v":"mardi"},null,"Durée d'activité :",null,{"$f":"VALUE(IF(L2=\"samedi\",\"00:00\",IF(L2=\"dimanche\",\"00:00\",IF(L2=\"vendredi\",\"07:30\",\"08:30\"))))","v":"08:30:00"},null,"Jour de la semaine :",null,{"$f":"TEXT(T1,\"jjjj\")","v":"mercredi"},null,"Durée d'activité :",null,{"$f":"VALUE(IF(T2=\"samedi\",\"00:00\",IF(T2=\"dimanche\",\"00:00\",IF(T2=\"vendredi\",\"07:30\",\"08:30\"))))","v":"08:30:00"},null,"Jour de la semaine :",null,{"$f":"TEXT(AB1,\"jjjj\")","v":"jeudi"},null,"Durée d'activité :",null,{"$f":"VALUE(IF(AB2=\"samedi\",\"00:00\",IF(AB2=\"dimanche\",\"00:00\",IF(AB2=\"vendredi\",\"07:30\",\"08:30\"))))","v":"08:30:00"},null,"Jour de la semaine :",null,{"$f":"TEXT(AJ1,\"jjjj\")","v":"vendredi"},null,"Durée d'activité :",null,{"$f":"VALUE(IF(AJ2=\"samedi\",\"00:00\",IF(AJ2=\"dimanche\",\"00:00\",IF(AJ2=\"vendredi\",\"07:30\",\"08:30\"))))","v":"07:30:00"},null,"Jour de la semaine :",null,{"$f":"TEXT(AR1,\"jjjj\")","v":"samedi"},null,"Durée d'activité :",null,{"$f":"VALUE(IF(AR2=\"samedi\",\"00:00\",IF(AR2=\"dimanche\",\"00:00\",IF(AR2=\"vendredi\",\"07:30\",\"08:30\"))))","v":"00:00:00"},null,"Jour de la semaine :",null,{"$f":"TEXT(AZ1,\"jjjj\")","v":"dimanche"},null,"Durée d'activité :",null,{"$f":"VALUE(IF(AZ2=\"samedi\",\"00:00\",IF(AZ2=\"dimanche\",\"00:00\",IF(AZ2=\"vendredi\",\"07:30\",\"08:30\"))))","v":"00:00:00"}]
[]
[]
[]
[]
[]
[null,"No1","No2","No3","No4","No5","No6",null,null,{"$f":"B8","v":"No1"},"No2","No3","No4","No5","No6",null,null,{"$f":"J8","v":"No1"},"No2","No3","No4","No5","No6",null,null,{"$f":"R8","v":"No1"},"No2","No3","No4","No5","No6",0,null,{"$f":"Z8","v":"No1"},"No2","No3","No4","No5","No6",0,null,{"$f":"AH8","v":"No1"},"No2","No3","No4","No5","No6",0,null,{"$f":"AP8","v":"No1"},"No2","No3",{"$f":"AS8","v":"No4"},{"$f":"AT8","v":"No5"},{"$f":"AU8","v":"No6"},0]
["Activitée 1",1,0.5,0.25,{"$nulls":4},"Activitée 1",{"$nulls":7},"Activitée 1",{"$nulls":7},"Activitée 1",{"$nulls":7},"Activitée 1",{"$nulls":7},"Activitée 1",{"$nulls":7},"Activitée 1",1,2,3]
["Activitée 2",1,{"$nulls":6},"Activitée 2",{"$nulls":7},"Activitée 2",{"$nulls":7},"Activitée 2",{"$nulls":7},"Activitée 2",{"$nulls":7},"Activitée 2",{"$nulls":7},"Activitée 2"]
["Activitée 3",{"$nulls":7},"Activitée 3",{"$nulls":7},"Activitée 3",{"$nulls":7},"Activitée 3",{"$nulls":7},"Activitée 3",{"$nulls":7},"Activitée 3",{"$nulls":7},"Activitée 3"]
["Activitée 4",{"$nulls":7},"Activitée 4",{"$nulls":7},"Activitée 4",{"$nulls":7},"Activitée 4",{"$nulls":7},"Activitée 4",{"$nulls":7},"Activitée 4",{"$nulls":7},"Activitée 4"]
["Activitée 5",{"$nulls":7},"Activitée 5",{"$nulls":7},"Activitée 5",{"$nulls":7},"Activitée 5",{"$nulls":7},"Activitée 5",{"$nulls":7},"Activitée 5",{"$nulls":7},"Activitée 5"]
["Activitée 6",{"$nulls":7},"Activitée 6",{"$nulls":7},"Activitée 6",{"$nulls":7},"Activitée 6",{"$nulls":7},"Activitée 6",{"$nulls":7},"Activitée 6",{"$nulls":7},"Activitée 6"]
["Activitée 7",{"$nulls":7},"Activitée 7",{"$nulls":7},"Activitée 7",{"$nulls":7},"Activitée 7",{"$nulls":7},"Activitée 7",{"$nulls":7},"Activitée 7",{"$nulls":7},"Activitée 7"]
["Activitée 8",{"$nulls":7},"Activitée 8",{"$nulls":7},"Activitée 8",{"$nulls":7},"Activitée 8",{"$nulls":7},"Activitée 8",{"$nulls":7},"Activitée 8",{"$nulls":7},"Activitée 8"]
["Activitée 9",{"$nulls":7},"Activitée 9",{"$nulls":7},"Activitée 9",{"$nulls":7},"Activitée 9",{"$nulls":7},"Activitée 9",{"$nulls":7},"Activitée 9",{"$nulls":7},"Activitée 9"]
["Activitée 10",{"$nulls":7},"Activitée 10",{"$nulls":7},"Activitée 10",{"$nulls":7},"Activitée 10",{"$nulls":7},"Activitée 10",{"$nulls":7},"Activitée 10",{"$nulls":7},"Activitée 10"]
["Activitée 11",{"$nulls":7},"Activitée 11",{"$nulls":7},"Activitée 11",{"$nulls":7},"Activitée 11",{"$nulls":7},"Activitée 11",{"$nulls":7},"Activitée 11",{"$nulls":7},"Activitée 11"]
["Activitée 12",{"$nulls":7},"Activitée 12",{"$nulls":7},"Activitée 12",{"$nulls":7},"Activitée 12",{"$nulls":7},"Activitée 12",{"$nulls":7},"Activitée 12",{"$nulls":7},"Activitée 12"]
["Activitée 13",{"$nulls":7},"Activitée 13",{"$nulls":7},"Activitée 13",{"$nulls":7},"Activitée 13",{"$nulls":7},"Activitée 13",{"$nulls":7},"Activitée 13",{"$nulls":7},"Activitée 13"]
["Activitée 14",{"$nulls":7},"Activitée 14",{"$nulls":7},"Activitée 14",{"$nulls":7},"Activitée 14",{"$nulls":7},"Activitée 14",{"$nulls":7},"Activitée 14",{"$nulls":7},"Activitée 14"]
["Total journalier",{"$f":"SUM(B9:B18,B21:B22)","v":2},{"$f":"SUM(C9:C18,C21:C22)","v":0.5},{"$f":"SUM(D9:D18,D21:D22)","v":0.25},{"$f":"SUM(E9:E18,E21:E22)","v":0},{"$f":"SUM(F9:F18,F21:F22)","v":0},{"$f":"SUM(G9:G18,G21:G22)","v":0},null,"Total journalier",{"$f":"SUM(J9:J18,J21:J22)","v":0},{"$f":"SUM(K9:K18,K21:K22)","v":0},{"$f":"SUM(L9:L18,L21:L22)","v":0},{"$f":"SUM(M9:M18,M21:M22)","v":0},{"$f":"SUM(N9:N18,N21:N22)","v":0},{"$f":"SUM(O9:O18,O21:O22)","v":0},null,"Total journalier",{"$f":"SUM(R9:R18,R21:R22)","v":0},{"$f":"SUM(S9:S18,S21:S22)","v":0},{"$f":"SUM(T9:T18,T21:T22)","v":0},{"$f":"SUM(U9:U18,U21:U22)","v":0},{"$f":"SUM(V9:V18,V21:V22)","v":0},{"$f":"SUM(W9:W18,W21:W22)","v":0},null,"Total journalier",{"$f":"SUM(Z9:Z18,Z21:Z22)","v":0},{"$f":"SUM(AA9:AA18,AA21:AA22)","v":0},{"$f":"SUM(AB9:AB18,AB21:AB22)","v":0},{"$f":"SUM(AC9:AC18,AC21:AC22)","v":0},{"$f":"SUM(AD9:AD18,AD21:AD22)","v":0},{"$f":"SUM(AE9:AE18,AE21:AE22)","v":0},{"$f":"SUM(AF9:AF22)","v":0},"Total journalier",{"$f":"SUM(AH9:AH18,AH21:AH22)","v":0},{"$f":"SUM(AI9:AI18,AI21:AI22)","v":0},{"$f":"SUM(AJ9:AJ18,AJ21:AJ22)","v":0},{"$f":"SUM(AK9:AK18,AK21:AK22)","v":0},{"$f":"SUM(AL9:AL18,AL21:AL22)","v":0},{"$f":"SUM(AM9:AM18,AM21:AM22)","v":0},{"$f":"SUM(AN9:AN22)","v":0},"Total journalier",{"$f":"SUM(AP9:AP18,AP21:AP22)","v":0},{"$f":"SUM(AQ9:AQ18,AQ21:AQ22)","v":0},{"$f":"SUM(AR9:AR18,AR21:AR22)","v":0},{"$f":"SUM(AS9:AS18,AS21:AS22)","v":0},{"$f":"SUM(AT9:AT18,AT21:AT22)","v":0},{"$f":"SUM(AU9:AU18,AU21:AU22)","v":0},{"$f":"SUM(AV9:AV22)","v":0},"Total journalier",{"$f":"SUM(AX9:AX18,AX21:AX22)","v":1},{"$f":"SUM(AY9:AY18,AY21:AY22)","v":2},{"$f":"SUM(AZ9:AZ18,AZ21:AZ22)","v":3},{"$f":"SUM(BA9:BA18,BA21:BA22)","v":0},{"$f":"SUM(BB9:BB18,BB21:BB22)","v":0},{"$f":"SUM(BC9:BC18,BC21:BC22)","v":0},{"$f":"SUM(BD9:BD22)","v":0}]

{"sheet":"Semaine_2","index":2,"n_rows":23,"n_cols":56,"rows_kept":23}
[null,"Date :",null,{"$f":"Semaine_1!$AZ$1+1","v":"2012-01-02"},null,"Semaine N°",null,{"$f":"WEEKNUM(D1,1)","v":1},null,"Date :",null,{"$f":"SUM(D1+1)","v":"2012-01-03"},null,"Semaine N°",null,{"$f":"WEEKNUM(L1,1)","v":1},null,"Date :",null,{"$f":"SUM(L1+1)","v":"2012-01-04"},null,"Semaine N°",null,{"$f":"WEEKNUM(T1,1)","v":1},null,"Date :",null,{"$f":"SUM(T1+1)","v":"2012-01-05"},null,"Semaine N°",null,{"$f":"WEEKNUM(AB1,1)","v":1},null,"Date :",null,{"$f":"SUM(AB1+1)","v":"2012-01-06"},null,"Semaine N°",null,{"$f":"WEEKNUM(AJ1,1)","v":1},null,"Date :",null,{"$f":"SUM(AJ1+1)","v":"2012-01-07"},null,"Semaine N°",null,{"$f":"WEEKNUM(AR1,1)","v":1},null,"Date :",null,{"$f":"SUM(AR1+1)","v":"2012-01-08"},null,"Semaine N°",null,{"$f":"WEEKNUM(AZ1,1)","v":2}]
[null,"Jour de la semaine :",null,{"$f":"TEXT(D1,\"jjjj\")","v":"lundi"},null,"Durée d'activité :",null,{"$f":"VALUE(IF(D2=\"samedi\",\"00:00\",IF(D2=\"dimanche\",\"00:00\",IF(D2=\"vendredi\",\"07:30\",\"08:30\"))))","v":"08:30:00"},null,"Jour de la semaine :",null,{"$f":"TEXT(L1,\"jjjj\")","v":"mardi"},null,"Durée d'activité :",null,{"$f":"VALUE(IF(L2=\"samedi\",\"00:00\",IF(L2=\"dimanche\",\"00:00\",IF(L2=\"vendredi\",\"07:30\",\"08:30\"))))","v":"08:30:00"},null,"Jour de la semaine :",null,{"$f":"TEXT(T1,\"jjjj\")","v":"mercredi"},null,"Durée d'activité :",null,{"$f":"VALUE(IF(T2=\"samedi\",\"00:00\",IF(T2=\"dimanche\",\"00:00\",IF(T2=\"vendredi\",\"07:30\",\"08:30\"))))","v":"08:30:00"},null,"Jour de la semaine :",null,{"$f":"TEXT(AB1,\"jjjj\")","v":"jeudi"},null,"Durée d'activité :",null,{"$f":"VALUE(IF(AB2=\"samedi\",\"00:00\",IF(AB2=\"dimanche\",\"00:00\",IF(AB2=\"vendredi\",\"07:30\",\"08:30\"))))","v":"08:30:00"},null,"Jour de la semaine :",null,{"$f":"TEXT(AJ1,\"jjjj\")","v":"vendredi"},null,"Durée d'activité :",null,{"$f":"VALUE(IF(AJ2=\"samedi\",\"00:00\",IF(AJ2=\"dimanche\",\"00:00\",IF(AJ2=\"vendredi\",\"07:30\",\"08:30\"))))","v":"07:30:00"},null,"Jour de la semaine :",null,{"$f":"TEXT(AR1,\"jjjj\")","v":"samedi"},null,"Durée d'activité :",null,{"$f":"VALUE(IF(AR2=\"samedi\",\"00:00\",IF(AR2=\"dimanche\",\"00:00\",IF(AR2=\"vendredi\",\"07:30\",\"08:30\"))))","v":"00:00:00"},null,"Jour de la semaine :",null,{"$f":"TEXT(AZ1,\"jjjj\")","v":"dimanche"},null,"Durée d'activité :",null,{"$f":"VALUE(IF(AZ2=\"samedi\",\"00:00\",IF(AZ2=\"dimanche\",\"00:00\",IF(AZ2=\"vendredi\",\"07:30\",\"08:30\"))))","v":"00:00:00"}]
[]
[]
[]
[]
[]
[null,"No1","No2","No3","No4","No5","No6",null,null,{"$f":"B8","v":"No1"},"No2","No3","No4","No5","No6",null,null,{"$f":"J8","v":"No1"},"No2","No3","No4","No5","No6",null,null,{"$f":"R8","v":"No1"},"No2","No3","No4","No5","No6",0,null,{"$f":"Z8","v":"No1"},"No2","No3","No4","No5","No6",0,null,{"$f":"AH8","v":"No1"},"No2","No3","No4","No5","No6",0,null,{"$f":"AP8","v":"No1"},"No2","No3","No4","No5","No6",0]
["Activitée 1",0.25,{"$nulls":6},"Activitée 1",{"$nulls":7},"Activitée 1",{"$nulls":7},"Activitée 1",{"$nulls":7},"Activitée 1",{"$nulls":7},"Activitée 1",{"$nulls":7},"Activitée 1"]
["Activitée 2",{"$nulls":7},"Activitée 2",{"$nulls":7},"Activitée 2",{"$nulls":7},"Activitée 2",{"$nulls":7},"Activitée 2",{"$nulls":7},"Activitée 2",{"$nulls":7},"Activitée 2"]
["Activitée 3",{"$nulls":7},"Activitée 3",{"$nulls":7},"Activitée 3",{"$nulls":7},"Activitée 3",{"$nulls":7},"Activitée 3",{"$nulls":7},"Activitée 3",{"$nulls":7},"Activitée 3"]
["Activitée 4",{"$nulls":7},"Activitée 4",{"$nulls":7},"Activitée 4",{"$nulls":7},"Activitée 4",{"$nulls":7},"Activitée 4",{"$nulls":7},"Activitée 4",{"$nulls":7},"Activitée 4"]
["Activitée 5",{"$nulls":7},"Activitée 5",{"$nulls":7},"Activitée 5",{"$nulls":7},"Activitée 5",{"$nulls":7},"Activitée 5",{"$nulls":7},"Activitée 5",{"$nulls":7},"Activitée 5"]
["Activitée 6",{"$nulls":7},"Activitée 6",{"$nulls":7},"Activitée 6",{"$nulls":7},"Activitée 6",{"$nulls":7},"Activitée 6",{"$nulls":7},"Activitée 6",{"$nulls":7},"Activitée 6"]
["Activitée 7",{"$nulls":7},"Activitée 7",{"$nulls":7},"Activitée 7",{"$nulls":7},"Activitée 7",{"$nulls":7},"Activitée 7",{"$nulls":7},"Activitée 7",{"$nulls":7},"Activitée 7"]
["Activitée 8",{"$nulls":7},"Activitée 8",{"$nulls":7},"Activitée 8",{"$nulls":7},"Activitée 8",{"$nulls":7},"Activitée 8",{"$nulls":7},"Activitée 8",{"$nulls":7},"Activitée 8"]
["Activitée 9",{"$nulls":7},"Activitée 9",{"$nulls":7},"Activitée 9",{"$nulls":7},"Activitée 9",{"$nulls":7},"Activitée 9",{"$nulls":7},"Activitée 9",{"$nulls":7},"Activitée 9"]
["Activitée 10",{"$nulls":7},"Activitée 10",{"$nulls":7},"Activitée 10",{"$nulls":7},"Activitée 10",{"$nulls":7},"Activitée 10",{"$nulls":7},"Activitée 10",{"$nulls":7},"Activitée 10"]
["Activitée 11",{"$nulls":7},"Activitée 11",{"$nulls":7},"Activitée 11",{"$nulls":7},"Activitée 11",{"$nulls":7},"Activitée 11",{"$nulls":7},"Activitée 11",{"$nulls":7},"Activitée 11"]
["Activitée 12",{"$nulls":7},"Activitée 12",{"$nulls":7},"Activitée 12",{"$nulls":7},"Activitée 12",{"$nulls":7},"Activitée 12",{"$nulls":7},"Activitée 12",{"$nulls":7},"Activitée 12"]
["Activitée 13",{"$nulls":7},"Activitée 13",{"$nulls":7},"Activitée 13",{"$nulls":7},"Activitée 13",{"$nulls":7},"Activitée 13",{"$nulls":7},"Activitée 13",{"$nulls":7},"Activitée 13"]
["Activitée 14",{"$nulls":7},"Activitée 14",{"$nulls":7},"Activitée 14",{"$nulls":7},"Activitée 14",{"$nulls":7},"Activitée 14",{"$nulls":7},"Activitée 14",{"$nulls":7},"Activitée 14"]
["Total journalier",{"$f":"SUM(B9:B18,B21:B22)","v":0.25},{"$f":"SUM(C9:C18,C21:C22)","v":0},{"$f":"SUM(D9:D18,D21:D22)","v":0},{"$f":"SUM(E9:E18,E21:E22)","v":0},{"$f":"SUM(F9:F18,F21:F22)","v":0},{"$f":"SUM(G9:G18,G21:G22)","v":0},null,"Total journalier",{"$f":"SUM(J9:J18,J21:J22)","v":0},{"$f":"SUM(K9:K18,K21:K22)","v":0},{"$f":"SUM(L9:L18,L21:L22)","v":0},{"$f":"SUM(M9:M18,M21:M22)","v":0},{"$f":"SUM(N9:N18,N21:N22)","v":0},{"$f":"SUM(O9:O18,O21:O22)","v":0},null,"Total journalier",{"$f":"SUM(R9:R18,R21:R22)","v":0},{"$f":"SUM(S9:S18,S21:S22)","v":0},{"$f":"SUM(T9:T18,T21:T22)","v":0},{"$f":"SUM(U9:U18,U21:U22)","v":0},{"$f":"SUM(V9:V18,V21:V22)","v":0},{"$f":"SUM(W9:W18,W21:W22)","v":0},null,"Total journalier",{"$f":"SUM(Z9:Z18,Z21:Z22)","v":0},{"$f":"SUM(AA9:AA18,AA21:AA22)","v":0},{"$f":"SUM(AB9:AB18,AB21:AB22)","v":0},{"$f":"SUM(AC9:AC18,AC21:AC22)","v":0},{"$f":"SUM(AD9:AD18,AD21:AD22)","v":0},{"$f":"SUM(AE9:AE18,AE21:AE22)","v":0},{"$f":"SUM(AF9:AF22)","v":0},"Total journalier",{"$f":"SUM(AH9:AH18,AH21:AH22)","v":0},{"$f":"SUM(AI9:AI18,AI21:AI22)","v":0},{"$f":"SUM(AJ9:AJ18,AJ21:AJ22)","v":0},{"$f":"SUM(AK9:AK18,AK21:AK22)","v":0},{"$f":"SUM(AL9:AL18,AL21:AL22)","v":0},{"$f":"SUM(AM9:AM18,AM21:AM22)","v":0},{"$f":"SUM(AN9:AN22)","v":0},"Total journalier",{"$f":"SUM(AP9:AP18,AP21:AP22)","v":0},{"$f":"SUM(AQ9:AQ18,AQ21:AQ22)","v":0},{"$f":"SUM(AR9:AR18,AR21:AR22)","v":0},{"$f":"SUM(AS9:AS18,AS21:AS22)","v":0},{"$f":"SUM(AT9:AT18,AT21:AT22)","v":0},{"$f":"SUM(AU9:AU18,AU21:AU22)","v":0},{"$f":"SUM(AV9:AV22)","v":0},"Total journalier",{"$f":"SUM(AX9:AX18,AX21:AX22)","v":0},{"$f":"SUM(AY9:AY18,AY21:AY22)","v":0},{"$f":"SUM(AZ9:AZ18,AZ21:AZ22)","v":0},{"$f":"SUM(BA9:BA18,BA21:BA22)","v":0},{"$f":"SUM(BB9:BB18,BB21:BB22)","v":0},{"$f":"SUM(BC9:BC18,BC21:BC22)","v":0},{"$f":"SUM(BD9:BD22)","v":0}]