{"text_format":"3","workbook":"xlsx","n_sheets":4,"sheets":["lancement","ACCEUIL","PLAN","MACRO"],"not_rendered":{"images":3,"macros":1,"external_links":1,"defined_names":3,"comments":1},"read":"whole","date_system":"1900"}

{"sheet":"lancement","index":0,"n_rows":36,"n_cols":44,"rows_kept":36,"hidden":true,"merged":[[1,1,1,4],[1,7,1,8],[2,1,2,4],[2,6,2,8],[2,10,2,13],[2,14,2,17],[2,18,2,21],[2,22,2,25],[2,26,2,28],[2,29,2,32],[2,34,2,37],[3,1,4,4],[3,5,4,8],[3,9,4,12],[3,13,4,16],[3,17,4,20],[3,21,4,24],[3,25,4,28],[3,29,4,32],[3,33,4,36],[3,37,4,40],[3,41,4,41],[3,42,4,42],[3,43,4,43],[35,1,36,1]]}
[]
[null,"DATE MISE A JOUR",{"$nulls":3},{"$f":"TODAY()","v":"2019-11-07"},null,{"$f":"WEEKNUM(F2,2)","v":45}]
[{"$nulls":5},"ATEX :","OUI",null,null,"NON","DATE Livraison:",{"$nulls":7},"NOM CHANTIER :",{"$nulls":7},"LIEU :",{"$nulls":6},"RAL :"]
[null,"ALU BRUT / LAQUAGE",{"$nulls":3},"ACCESSOIRES",{"$nulls":3},"ACIERS",{"$nulls":3},"PLASTIQUES/ISOLANTS",{"$nulls":3},"BOIS/COMPOSITES",{"$nulls":3},"ALU DIVERS",{"$nulls":3},"VITRAGES",{"$nulls":3},"POSE",{"$nulls":3},"TRANSPORT/SERVICES",{"$nulls":3},"ELECTRONIQUE",{"$nulls":3},"COM","VAL","LIT"]
[]
[]
[null,"WEEEZE",{"$nulls":3},"SERRURES",{"$nulls":3},"EQUERRE POSE",{"$nulls":3},"CALES PE",{"$nulls":3},"GALANDAGES",{"$nulls":3},"CORNIERES",{"$nulls":3},"VIT",{"$nulls":3},"VISSERIE",{"$nulls":3},"CAMION",{"$nulls":3},"MOTEUR G"]
[]
[]
[null,"HEROAL",{"$nulls":3},"POIGNEES",{"$nulls":3},"EQUERRE FILANTE",{"$nulls":3},"MACROLONS",{"$nulls":3},"CAISSE BOIS",{"$nulls":3},"PLATS",{"$nulls":3},"VIDRESSIF",{"$nulls":3},"POLYFLEX",{"$nulls":3},"GRUTAGE",{"$nulls":3},"MOTEUR D"]
[]
[]
[null,"PL8/9",{"$nulls":3},"COULEUR ",{"$nulls":3},"COSTIERE",{"$nulls":3},"STYRODUR",{"$nulls":3},"PROTECTIONS",{"$nulls":3},"TUBES",{"$nulls":3},"VETRODOMUS",{"$nulls":3},"SILICONE",{"$nulls":3},"STOCKAGE",{"$nulls":3},"MOTEUR SD"]
[{"$nulls":5},"ACCESSOIRES"]
[]
[null,"TECKNAL",{"$nulls":7},"SEUIL INOX",{"$nulls":3},"LAINE DE ",{"$nulls":3},"FERMETURE",{"$nulls":3},"TOLERIE",{"$nulls":3},"Q RAILING",{"$nulls":3},"COMPRIBANDE",{"$nulls":3},"EMBALLAGE",{"$nulls":3},"ARMOIRE"]
[{"$nulls":13},"ROCHE",{"$nulls":3},"PROVISOIRE",{"$nulls":3},"PANNEAUX",{"$nulls":15},"BOUTONS"]
[]
[null,"PORTE PIVOT",{"$nulls":7},"LOUINEAUX",{"$nulls":7},"TASSEAUX",{"$nulls":3},"TOLERIE",{"$nulls":7},"OUTILLAGE",{"$nulls":3},"PALONNIER",{"$nulls":3},"POST MOT"]
[{"$nulls":29},"SPECIAL"]
[]
[null,"GARDE CORPS",{"$nulls":7},"STRUCTURE",{"$nulls":19},"GOUGEON",{"$nulls":3},"LOCATION",{"$nulls":3},"VENTOUSES"]
[{"$nulls":9},"ACIER",{"$nulls":27},"PISTONS"]
[]
[null,"VOLET ROULANT",{"$nulls":7},"RENFORTS",{"$nulls":15},"COLLES VITRAGE",{"$nulls":3},"FOMGLASS",{"$nulls":7},"CONTACTEURS"]
[null,"STORE",{"$nulls":27},"COLLE"]
[]
[null,"MOUSTIQUAIRE",{"$nulls":27},"REAGREAGE"]
[]
[]
[null,"PORTE GARAGE",{"$nulls":23},"NOMBRE TOTAL"]
[{"$nulls":25},"DE VERRE"]
[]
[]
[null,"VALIDATION","X"]
[null,"OBSERVATIONS"]

{"sheet":"ACCEUIL","index":1,"n_rows":0,"n_cols":0,"rows_kept":0}

{"sheet":"PLAN","index":2,"n_rows":5,"n_cols":19,"rows_kept":5}
["REF","Affaire","Client","Semaine_Livraison","Couleur","Gamme","Pays","Temps","Temps_passé","Temps_restant","ALU_BRUT_LAQUAGE","ALU_DIVERS","ACCESSOIRES","ACIERS","PLASTIQUES_ISOLANTS","BOIS_COMPOSITES","VITRAGES","TRANSPORT_SERVICES","ELECTRO"]
[{"v":9,"d":"R009"},"oiseau bleu","mda","S 46","noir sablée","WEEEZE +","SUISSE","45",null,null,"Val","COM","LIT","COM","VAL","LIT","COM","VAL","LIT"]
[{"v":10,"d":"R010"},"showroom","mdr","s45","noir","HEROAL","France","75",null,null,"Lit","COM","VAL","Lit","COM","VAL","Lit","COM","VAL"]
[{"v":11,"d":"R011"},"mentaway","mdr","S47","brun","PL","SUISSE",85,null,null,"Val","COM","LIT","VAL","COM","LIT","VAL","COM","LIT"]
[{"v":12,"d":"R012"},"ultima mies","mdr","s45","noir","WEEEZE","SUISSE","150",null,null,"COM","VAL","COM","COM","VAL","COM","COM","VAL","COM"]

{"sheet":"MACRO","index":3,"n_rows":35,"n_cols":12,"rows_kept":35,"hidden":true}
["TYPE",null,"PAYS",null,"CHANTIER",null,"ONGLET"]
["WEEEZE",null,"France",{"$nulls":3},{"$f":"[1]PLAN!B2:B27","v":"XXXXXXX"},null,null,{"$f":"TODAY()","v":"2019-11-07"},{"$f":"WEEKNUM(J2,2)","v":45},1]
["WEEEZE +",null,"SUISSE",{"$nulls":3},{"$f":"[1]PLAN!B3:B28","v":"essai01"}]
["HEROAL",null,"ISRAEL",{"$nulls":3},{"$f":"[1]PLAN!B4:B29","v":"ssssssss"}]
["PL",null,"ITALIE",{"$nulls":3},{"$f":"[1]PLAN!B4:B30","v":"uuuuu"}]
[null,null,"ALLEMAGNE",{"$nulls":3},{"$f":"[1]PLAN!B4:B31","v":0}]
[null,null,"BELGIQUE",{"$nulls":3},{"$f":"[1]PLAN!B5:B32","v":0}]
[{"$nulls":6},{"$f":"[1]PLAN!B6:B33","v":0}]
[{"$nulls":6},{"$f":"[1]PLAN!B7:B34","v":0}]
[{"$nulls":6},{"$f":"[1]PLAN!B8:B35","v":0}]
[{"$nulls":6},{"$f":"[1]PLAN!B9:B36","v":0}]
[{"$nulls":6},{"$f":"[1]PLAN!B10:B37","v":0}]
[{"$nulls":6},{"$f":"[1]PLAN!B11:B38","v":0}]
[{"$nulls":6},{"$f":"[1]PLAN!B12:B39","v":0}]
[{"$nulls":6},{"$f":"[1]PLAN!B13:B40","v":0}]
[{"$nulls":6},{"$f":"[1]PLAN!B14:B41","v":0}]
[{"$nulls":6},{"$f":"[1]PLAN!B15:B42","v":0}]
[{"$nulls":6},{"$f":"[1]PLAN!B16:B43","v":0}]
[{"$nulls":6},{"$f":"[1]PLAN!B17:B44","v":0}]
[{"$nulls":6},{"$f":"[1]PLAN!B18:B45","v":0}]
[{"$nulls":6},{"$f":"[1]PLAN!B19:B46","v":0}]
[{"$nulls":6},{"$f":"[1]PLAN!B20:B47","v":0}]
[{"$nulls":6},{"$f":"[1]PLAN!B21:B48","v":0}]
[{"$nulls":6},{"$f":"[1]PLAN!B22:B49","v":0}]
[{"$nulls":6},{"$f":"[1]PLAN!B23:B50","v":0}]
[{"$nulls":6},{"$f":"[1]PLAN!B24:B51","v":0}]
[{"$nulls":6},{"$f":"[1]PLAN!B25:B52","v":0}]
[{"$nulls":6},{"$f":"[1]PLAN!B26:B53","v":0}]
[{"$nulls":6},{"$f":"[1]PLAN!B27:B54","v":0}]
[{"$nulls":6},{"$f":"[1]PLAN!B28:B55","v":0}]
[{"$nulls":6},{"$f":"[1]PLAN!B29:B56","v":0}]
[{"$nulls":6},{"$f":"[1]PLAN!B30:B57","v":0}]
[{"$nulls":6},{"$f":"[1]PLAN!B31:B58","v":0}]
[{"$nulls":6},{"$f":"[1]PLAN!B32:B59","v":0}]
[{"$nulls":6},{"$f":"[1]PLAN!B33:B60","v":0}]